BEGIN:VCALENDAR
VERSION:2.0
PRODID:-//Plone.org//NONSGML plone.app.event//EN
X-WR-TIMEZONE:Brazil/East
BEGIN:VEVENT
SUMMARY:AUDÊNCIA PÚBLICA
DTSTART;TZID=Brazil/East;VALUE=DATE-TIME:20240226T153000
DTEND;TZID=Brazil/East;VALUE=DATE-TIME:20240226T163000
DTSTAMP;VALUE=DATE-TIME:20260423T081513Z
UID:e28c4274805f491ab6e6a25b7551ba74@www.saudadedoiguacu.pr.leg.br
CREATED;VALUE=DATE-TIME:20240215T121754Z
DESCRIPTION:Apresentação do Relatório de Gestão da Saúde referente ao
  terceiro quadrimestre do ano de 2023.
LAST-MODIFIED;VALUE=DATE-TIME:20240215T122330Z
URL:https://www.saudadedoiguacu.pr.leg.br/institucional/eventos/audencia-p
 ublica
END:VEVENT
BEGIN:VTIMEZONE
TZID:Brazil/East
X-LIC-LOCATION:Brazil/East
BEGIN:STANDARD
DTSTART;VALUE=DATE-TIME:20240217T230000
TZNAME:BRT
TZOFFSETFROM:-0200
TZOFFSETTO:-0300
END:STANDARD
END:VTIMEZONE
END:VCALENDAR
